BEGIN:VCALENDAR
VERSION:2.0
PRODID:-//Pamukkale Teknokent Yönetici A.Ş. - ECPv6.15.18//NONSGML v1.0//EN
CALSCALE:GREGORIAN
METHOD:PUBLISH
X-ORIGINAL-URL:https://www.pauteknokent.com.tr
X-WR-CALDESC:Pamukkale Teknokent Yönetici A.Ş. için etkinlikler
REFRESH-INTERVAL;VALUE=DURATION:PT1H
X-Robots-Tag:noindex
X-PUBLISHED-TTL:PT1H
BEGIN:VTIMEZONE
TZID:Europe/Istanbul
BEGIN:STANDARD
TZOFFSETFROM:+0300
TZOFFSETTO:+0300
TZNAME:+03
DTSTART:20250101T000000
END:STANDARD
END:VTIMEZONE
BEGIN:VEVENT
DTSTART;TZID=Europe/Istanbul:20260408T113000
DTEND;TZID=Europe/Istanbul:20260408T130000
DTSTAMP:20260425T204432
CREATED:20260330T122747Z
LAST-MODIFIED:20260330T132618Z
UID:3908-1775647800-1775653200@www.pauteknokent.com.tr
SUMMARY:Tecrübe Paylaşımı - Osman MAKAL
DESCRIPTION:Pamukkale Teknokent bünyesinde her ay düzenli olarak gerçekleştirdiğimiz Tecrübe Paylaşımları programı kapsamında bu ay\, Netinternet A.Ş. Kurucusu ve Yönetim Kurulu Başkanı Osman MAKAL‘ı konuk ediyoruz. \n8 Nisan’da gerçekleşecek bu özel etkinlikte; bilişim sektöründeki başarı hikâyesi\, kurumsallaşma süreçleri ve girişimcilik yolculuğundaki tecrübeler paylaşılacaktır. Sektörün öncü isimlerinden birini ağırlayacağımız bu oturumda\, teknoloji odaklı büyüme stratejileri üzerine değerli bir bilgi paylaşımı hedeflenmektedir. \nEtkinliğimiz Teknokent firmalarımız ve sınırlı sayıda öğrenci katılımına açıktır. \nTarih: 8 Nisan 2026 Saat: 11:30 Konuk: Osman MAKAL (Netinternet A.Ş. YK Başkanı) Yer: Mimar Erhan Çıralı Konferans Salonu \n  \nKayıt için lütfen aşağıdaki formu doldurun. \n\n                    Etkinlik Kayıt FormuİsimSoyisimFirmaÜnvanE-PostaCep TelefonuKayıt Oluştur            \n            \n  \n\n\n\n\n\n\n\n\n\n \n 
URL:https://www.pauteknokent.com.tr/event/tecrube-paylasimi-osman-makal
LOCATION:Mimar Erhan Çıralı Konferans Salonu\, Pamukkale Teknokent Yönetici A.Ş. Kınıklı Kampüsü\, Denizli\, Turkey
CATEGORIES:Tecrübe Paylaşımı
END:VEVENT
BEGIN:VEVENT
DTSTART;TZID=Europe/Istanbul:20260403T103000
DTEND;TZID=Europe/Istanbul:20260403T120000
DTSTAMP:20260425T204432
CREATED:20260401T070604Z
LAST-MODIFIED:20260401T070604Z
UID:3927-1775212200-1775217600@www.pauteknokent.com.tr
SUMMARY:İş Bankası Girişimcilik Şubeleri Tanıtım Etkinliği
DESCRIPTION:İş Bankası Girişimcilik Şubeleri Tanıtım Etkinliği \nTeknoloji odaklı girişimcilerin ihtiyaçlarına özel çözümler sunan İş Bankası Girişimcilik Şubeleri\, startup’lara yönelik sunduğu avantajları ve destekleri tanıtmak için bir araya geliyoruz! \nEtkinlikte Neler Var? \n\nStartup Kredi Kartı ile AWS bulut kredisi\, global teknoloji devlerinde indirimler ve 5.000 USD’ye varan hibe kredileri.\nTeknolojik Girişimci Paketi ile sınırsız\, ücretsiz havale/EFT ve esnek ödemeli köprü finansman kredileri.\nWorkup Girişimcilik Programı ve Yatırım Turu ile yatırım fırsatları ve globale açılım destekleri.\nUzman kadro ve ortak çalışma alanları ile girişimcilere özel destekler.\nTÜBİTAK BİGG\, KOSGEB\, ve e-Ticaret çözümleri hakkında detaylı bilgi.\n\nNeden Katılmalısınız? \n\nGirişiminiz için ihtiyaç duyduğunuz finansal ve operasyonel destekleri keşfedin.\nİş Bankası’nın ekosistem iş birlikleri ve yatırım fırsatları hakkında bilgi alın.\nUzman kadromuzla birebir görüşme fırsatı yakalayın.\n\nEtkinlik Detayları:\nTarih: 03.04.2026 – Cuma\nSaat: 10:30 – 12:00\nYer: Erhan Çıralı Konferans Salonu
URL:https://www.pauteknokent.com.tr/event/is-bankasi-girisimcilik-subeleri-tanitim-etkinligi
LOCATION:Mimar Erhan Çıralı Konferans Salonu\, Pamukkale Teknokent Yönetici A.Ş. Kınıklı Kampüsü\, Denizli\, Turkey
CATEGORIES:Tanıtım Toplantıları
END:VEVENT
END:VCALENDAR